Workbook

Sheet Start here
B2: Team roster & attrition
B3: A template by Lara Greco (Untanglify), laragreco.com
B5: Settings
B6: As-of date | C6: 46295 | D6: Every calculation runs as of this date. It's fixed so the sample data makes sense. For real use, type =TODAY() in this cell.
B8: How to use it
B9: 1. Add people | D9: One row per person on the Roster tab. Type only in the columns with dark headers. Fill each onboarding date as the milestone happens.
B10: 2. When someone leaves | D10: Add a row on the Leavers tab with their ID, last day, type and reason. Don't delete them from the Roster: their status changes to Left by itself.
B11: 3. Log every conversation | D11: 1:1s, feedback, schedule talks, warnings. The Roster shows each person's last conversation, and flags newcomers who haven't had a weekly 1:1.
B12: 4. Read the Attrition tab | D12: It calculates itself: monthly attrition, why and when people leave, and whether your starting risk rating predicts who leaves.
B13: 5. Make it yours | D13: Change dropdown options on the Lists tab. Change the milestone deadlines on the Glide path tab; the Roster flags follow.
B15: Colours
B16: Dark header | D16: You type here.
B17: Red header, shaded cells | D17: Calculated. Don't type over these.
B18: Yellow cell | D18: A setting you can change.
B20: Tabs
B21: Roster | D21: Everyone who has ever been on the team, with status, glide-path stage and flags.
B22: Leavers | D22: Exit details and the offboarding checklist.
B23: Conversation log | D23: Every 1:1, recap, feedback and warning, with follow-ups.
B24: Attrition | D24: The numbers and charts. Nothing to type.
B25: Glide path | D25: How new people ramp up, and the deadlines behind the flags.
B26: Lists | D26: Dropdown options.
B28: About the data | D28: Every name, date and number in this file is invented. Delete the rows on Roster, Leavers and Conversation log and start with your own.

Sheet Roster
A1: ID | B1: Name | C1: Status | D1: Stage | E1: Flag | F1: Team | G1: Role | H1: Country | I1: Manager | J1: Start date | K1: Days on team | L1: Weekly hours | M1: Starting risk | N1: Tools set up | O1: Training done | P1: Knowledge check | Q1: Shadowing done | R1: Live from | S1: Veteran from | T1: Leave risk | U1: Unavailable until | V1: Last day | W1: Last conversation | X1: Notes
A2: P001 | B2: Thandi C. | C2: =IF($J2="","",IF(AND($V2<>"",$V2<AsOf),"Left",IF($V2<>"","Leaving",IF(AND($U2<>"",$U2>=AsOf),"Unavailable",IF($T2<>"",$T2,IF(VALUE(LEFT($D2,1))>=3,"Live","Onboarding")))))) -> Live | D2: =IF($J2="","",IF($S2<>"","5. Veteran",IF($R2<>"",IF($K2>=DayVetReview,"4. Veteran review due","3. Newcomer"),IF($O2<>"","2. Shadowing","1. Training")))) -> 5. Veteran | E2: =IF(OR($J2="",$C2="Left",$C2="Leaving"),"",IF(AND($O2="",$K2>DayAbandon),"Gate: training not done by day "&DayAbandon,IF(AND($N2="",$K2>DayTools),"Behind: tools not set up (day "&DayTools&")",IF(AND($O2="",$K2>DayTraining),"Behind: training (day "&DayTraining&")",IF(AND($Q2="",$K2>DayShadowing),"Behind: shadowing (day "&DayShadowing&")",IF(AND($R2="",$K2>DayLive),"Behind: not live yet (day "&DayLive&")",IF(AND(LEFT($D2,1)="3",IF($W2="",TRUE(),AsOf-$W2>NewcomerGap)),"Newcomer: no 1:1 in "&NewcomerGap&"+ days",""))))))) | F2: Team leads | G2: Team lead | H2: Poland | I2: Operations manager | J2: 44294 | K2: =IF($J2="","",IF($V2<>"",MIN($V2,AsOf),AsOf)-$J2) -> 2001 | L2: 30 | M2: Green | N2: 44297 | O2: 44308 | P2: 1 | Q2: 44324 | R2: 44327 | S2: 44382 | V2: =IF($A2="","",IFERROR(IF(INDEX(Leavers!$E$2:$E$301,MATCH($A2,Leavers!$A$2:$A$301,0))="","",INDEX(Leavers!$E$2:$E$301,MATCH($A2,Leavers!$A$2:$A$301,0))),"")) | W2: =IF($A2="","",IF(COUNTIF('Conversation log'!$B$2:$B$1001,$A2)=0,"",_xlfn.MAXIFS('Conversation log'!$A$2:$A$1001,'Conversation log'!$B$2:$B$1001,$A2)))
A3: P002 | B3: Mateo E. | C3: =IF($J3="","",IF(AND($V3<>"",$V3<AsOf),"Left",IF($V3<>"","Leaving",IF(AND($U3<>"",$U3>=AsOf),"Unavailable",IF($T3<>"",$T3,IF(VALUE(LEFT($D3,1))>=3,"Live","Onboarding")))))) -> Live | D3: =IF($J3="","",IF($S3<>"","5. Veteran",IF($R3<>"",IF($K3>=DayVetReview,"4. Veteran review due","3. Newcomer"),IF($O3<>"","2. Shadowing","1. Training")))) -> 5. Veteran | E3: =IF(OR($J3="",$C3="Left",$C3="Leaving"),"",IF(AND($O3="",$K3>DayAbandon),"Gate: training not done by day "&DayAbandon,IF(AND($N3="",$K3>DayTools),"Behind: tools not set up (day "&DayTools&")",IF(AND($O3="",$K3>DayTraining),"Behind: training (day "&DayTraining&")",IF(AND($Q3="",$K3>DayShadowing),"Behind: shadowing (day "&DayShadowing&")",IF(AND($R3="",$K3>DayLive),"Behind: not live yet (day "&DayLive&")",IF(AND(LEFT($D3,1)="3",IF($W3="",TRUE(),AsOf-$W3>NewcomerGap)),"Newcomer: no 1:1 in "&NewcomerGap&"+ days",""))))))) | F3: Phone | G3: Agent | H3: India | I3: Zeynep W. | J3: 44585 | K3: =IF($J3="","",IF($V3<>"",MIN($V3,AsOf),AsOf)-$J3) -> 1710 | L3: 20 | M3: Green | N3: 44593 | O3: 44605 | P3: 0.95 | Q3: 44627 | R3: 44628 | S3: 44671 | V3: =IF($A3="","",IFERROR(IF(INDEX(Leavers!$E$2:$E$301,MATCH($A3,Leavers!$A$2:$A$301,0))="","",INDEX(Leavers!$E$2:$E$301,MATCH($A3,Leavers!$A$2:$A$301,0))),"")) | W3: =IF($A3="","",IF(COUNTIF('Conversation log'!$B$2:$B$1001,$A3)=0,"",_xlfn.MAXIFS('Conversation log'!$A$2:$A$1001,'Conversation log'!$B$2:$B$1001,$A3))) -> 46295
A4: P003 | B4: Caio O. | C4: =IF($J4="","",IF(AND($V4<>"",$V4<AsOf),"Left",IF($V4<>"","Leaving",IF(AND($U4<>"",$U4>=AsOf),"Unavailable",IF($T4<>"",$T4,IF(VALUE(LEFT($D4,1))>=3,"Live","Onboarding")))))) -> Live | D4: =IF($J4="","",IF($S4<>"","5. Veteran",IF($R4<>"",IF($K4>=DayVetReview,"4. Veteran review due","3. Newcomer"),IF($O4<>"","2. Shadowing","1. Training")))) -> 5. Veteran | E4: =IF(OR($J4="",$C4="Left",$C4="Leaving"),"",IF(AND($O4="",$K4>DayAbandon),"Gate: training not done by day "&DayAbandon,IF(AND($N4="",$K4>DayTools),"Behind: tools not set up (day "&DayTools&")",IF(AND($O4="",$K4>DayTraining),"Behind: training (day "&DayTraining&")",IF(AND($Q4="",$K4>DayShadowing),"Behind: shadowing (day "&DayShadowing&")",IF(AND($R4="",$K4>DayLive),"Behind: not live yet (day "&DayLive&")",IF(AND(LEFT($D4,1)="3",IF($W4="",TRUE(),AsOf-$W4>NewcomerGap)),"Newcomer: no 1:1 in "&NewcomerGap&"+ days",""))))))) | F4: Phone | G4: Agent | H4: Mexico | I4: Zeynep W. | J4: 44595 | K4: =IF($J4="","",IF($V4<>"",MIN($V4,AsOf),AsOf)-$J4) -> 1700 | L4: 10 | M4: Amber | N4: 44597 | O4: 44615 | P4: 0.86 | Q4: 44638 | R4: 44642 | S4: 44687 | V4: =IF($A4="","",IFERROR(IF(INDEX(Leavers!$E$2:$E$301,MATCH($A4,Leavers!$A$2:$A$301,0))="","",INDEX(Leavers!$E$2:$E$301,MATCH($A4,Leavers!$A$2:$A$301,0))),"")) | W4: =IF($A4="","",IF(COUNTIF('Conversation log'!$B$2:$B$1001,$A4)=0,"",_xlfn.MAXIFS('Conversation log'!$A$2:$A$1001,'Conversation log'!$B$2:$B$1001,$A4))) -> 46294
A5: P004 | B5: Vanessa J. | C5: =IF($J5="","",IF(AND($V5<>"",$V5<AsOf),"Left",IF($V5<>"","Leaving",IF(AND($U5<>"",$U5>=AsOf),"Unavailable",IF($T5<>"",$T5,IF(VALUE(LEFT($D5,1))>=3,"Live","Onboarding")))))) -> Live | D5: =IF($J5="","",IF($S5<>"","5. Veteran",IF($R5<>"",IF($K5>=DayVetReview,"4. Veteran review due","3. Newcomer"),IF($O5<>"","2. Shadowing","1. Training")))) -> 5. Veteran | E5: =IF(OR($J5="",$C5="Left",$C5="Leaving"),"",IF(AND($O5="",$K5>DayAbandon),"Gate: training not done by day "&DayAbandon,IF(AND($N5="",$K5>DayTools),"Behind: tools not set up (day "&DayTools&")",IF(AND($O5="",$K5>DayTraining),"Behind: training (day "&DayTraining&")",IF(AND($Q5="",$K5>DayShadowing),"Behind: shadowing (day "&DayShadowing&")",IF(AND($R5="",$K5>DayLive),"Behind: not live yet (day "&DayLive&")",IF(AND(LEFT($D5,1)="3",IF($W5="",TRUE(),AsOf-$W5>NewcomerGap)),"Newcomer: no 1:1 in "&NewcomerGap&"+ days",""))))))) | F5: Chat | G5: Senior agent | H5: Brazil | I5: Elif K. | J5: 44608 | K5: =IF($J5="","",IF($V5<>"",MIN($V5,AsOf),AsOf)-$J5) -> 1687 | L5: 20 | M5: Red | N5: 44617 | O5: 44627 | P5: 0.85 | Q5: 44654 | R5: 44656 | S5: 44696 | V5: =IF($A5="","",IFERROR(IF(INDEX(Leavers!$E$2:$E$301,MATCH($A5,Leavers!$A$2:$A$301,0))="","",INDEX(Leavers!$E$2:$E$301,MATCH($A5,Leavers!$A$2:$A$301,0))),"")) | W5: =IF($A5="","",IF(COUNTIF('Conversation log'!$B$2:$B$1001,$A5)=0,"",_xlfn.MAXIFS('Conversation log'!$A$2:$A$1001,'Conversation log'!$B$2:$B$1001,$A5))) -> 46294
A6: P005 | B6: Gloria I. | C6: =IF($J6="","",IF(AND($V6<>"",$V6<AsOf),"Left",IF($V6<>"","Leaving",IF(AND($U6<>"",$U6>=AsOf),"Unavailable",IF($T6<>"",$T6,IF(VALUE(LEFT($D6,1))>=3,"Live","Onboarding")))))) -> Live | D6: =IF($J6="","",IF($S6<>"","5. Veteran",IF($R6<>"",IF($K6>=DayVetReview,"4. Veteran review due","3. Newcomer"),IF($O6<>"","2. Shadowing","1. Training")))) -> 5. Veteran | E6: =IF(OR($J6="",$C6="Left",$C6="Leaving"),"",IF(AND($O6="",$K6>DayAbandon),"Gate: training not done by day "&DayAbandon,IF(AND($N6="",$K6>DayTools),"Behind: tools not set up (day "&DayTools&")",IF(AND($O6="",$K6>DayTraining),"Behind: training (day "&DayTraining&")",IF(AND($Q6="",$K6>DayShadowing),"Behind: shadowing (day "&DayShadowing&")",IF(AND($R6="",$K6>DayLive),"Behind: not live yet (day "&DayLive&")",IF(AND(LEFT($D6,1)="3",IF($W6="",TRUE(),AsOf-$W6>NewcomerGap)),"Newcomer: no 1:1 in "&NewcomerGap&"+ days",""))))))) | F6: Chat | G6: Agent | H6: Mexico | I6: Elif K. | J6: 44677 | K6: =IF($J6="","",IF($V6<>"",MIN($V6,AsOf),AsOf)-$J6) -> 1618 | L6: 30 | M6: Amber | N6: 44681 | O6: 44693 | P6: 0.93 | Q6: 44716 | R6: 44718 | S6: 44761 | V6: =IF($A6="","",IFERROR(IF(INDEX(Leavers!$E$2:$E$301,MATCH($A6,Leavers!$A$2:$A$301,0))="","",INDEX(Leavers!$E$2:$E$301,MATCH($A6,Leavers!$A$2:$A$301,0))),"")) | W6: =IF($A6="","",IF(COUNTIF('Conversation log'!$B$2:$B$1001,$A6)=0,"",_xlfn.MAXIFS('Conversation log'!$A$2:$A$1001,'Conversation log'!$B$2:$B$1001,$A6))) -> 46290
A7: P006 | B7: Pablo C. | C7: =IF($J7="","",IF(AND($V7<>"",$V7<AsOf),"Left",IF($V7<>"","Leaving",IF(AND($U7<>"",$U7>=AsOf),"Unavailable",IF($T7<>"",$T7,IF(VALUE(LEFT($D7,1))>=3,"Live","Onboarding")))))) -> Left | D7: =IF($J7="","",IF($S7<>"","5. Veteran",IF($R7<>"",IF($K7>=DayVetReview,"4. Veteran review due","3. Newcomer"),IF($O7<>"","2. Shadowing","1. Training")))) -> 5. Veteran | E7: =IF(OR($J7="",$C7="Left",$C7="Leaving"),"",IF(AND($O7="",$K7>DayAbandon),"Gate: training not done by day "&DayAbandon,IF(AND($N7="",$K7>DayTools),"Behind: tools not set up (day "&DayTools&")",IF(AND($O7="",$K7>DayTraining),"Behind: training (day "&DayTraining&")",IF(AND($Q7="",$K7>DayShadowing),"Behind: shadowing (day "&DayShadowing&")",IF(AND($R7="",$K7>DayLive),"Behind: not live yet (day "&DayLive&")",IF(AND(LEFT($D7,1)="3",IF($W7="",TRUE(),AsOf-$W7>NewcomerGap)),"Newcomer: no 1:1 in "&NewcomerGap&"+ days",""))))))) | F7: Phone | G7: Agent | H7: Brazil | I7: Zeynep W. | J7: 44686 | K7: =IF($J7="","",IF($V7<>"",MIN($V7,AsOf),AsOf)-$J7) -> 907 | L7: 20 | M7: Green | N7: 44691 | O7: 44705 | P7: 0.99 | Q7: 44718 | R7: 44723 | S7: 44773 | V7: =IF($A7="","",IFERROR(IF(INDEX(Leavers!$E$2:$E$301,MATCH($A7,Leavers!$A$2:$A$301,0))="","",INDEX(Leavers!$E$2:$E$301,MATCH($A7,Leavers!$A$2:$A$301,0))),"")) -> 45593 | W7: =IF($A7="","",IF(COUNTIF('Conversation log'!$B$2:$B$1001,$A7)=0,"",_xlfn.MAXIFS('Conversation log'!$A$2:$A$1001,'Conversation log'!$B$2:$B$1001,$A7)))
A8: P007 | B8: Bilal F. | C8: =IF($J8="","",IF(AND($V8<>"",$V8<AsOf),"Left",IF($V8<>"","Leaving",IF(AND($U8<>"",$U8>=AsOf),"Unavailable",IF($T8<>"",$T8,IF(VALUE(LEFT($D8,1))>=3,"Live","Onboarding")))))) -> Live | D8: =IF($J8="","",IF($S8<>"","5. Veteran",IF($R8<>"",IF($K8>=DayVetReview,"4. Veteran review due","3. Newcomer"),IF($O8<>"","2. Shadowing","1. Training")))) -> 5. Veteran | E8: =IF(OR($J8="",$C8="Left",$C8="Leaving"),"",IF(AND($O8="",$K8>DayAbandon),"Gate: training not done by day "&DayAbandon,IF(AND($N8="",$K8>DayTools),"Behind: tools not set up (day "&DayTools&")",IF(AND($O8="",$K8>DayTraining),"Behind: training (day "&DayTraining&")",IF(AND($Q8="",$K8>DayShadowing),"Behind: shadowing (day "&DayShadowing&")",IF(AND($R8="",$K8>DayLive),"Behind: not live yet (day "&DayLive&")",IF(AND(LEFT($D8,1)="3",IF($W8="",TRUE(),AsOf-$W8>NewcomerGap)),"Newcomer: no 1:1 in "&NewcomerGap&"+ days",""))))))) | F8: Phone | G8: Agent | H8: Philippines | I8: Zeynep W. | J8: 44690 | K8: =IF($J8="","",IF($V8<>"",MIN($V8,AsOf),AsOf)-$J8) -> 1605 | L8: 15 | M8: Green | N8: 44694 | O8: 44712 | P8: 0.93 | Q8: 44729 | R8: 44731 | S8: 44776 | V8: =IF($A8="","",IFERROR(IF(INDEX(Leavers!$E$2:$E$301,MATCH($A8,Leavers!$A$2:$A$301,0))="","",INDEX(Leavers!$E$2:$E$301,MATCH($A8,Leavers!$A$2:$A$301,0))),"")) | W8: =IF($A8="","",IF(COUNTIF('Conversation log'!$B$2:$B$1001,$A8)=0,"",_xlfn.MAXIFS('Conversation log'!$A$2:$A$1001,'Conversation log'!$B$2:$B$1001,$A8))) -> 46292
A9: P008 | B9: Ugo H. | C9: =IF($J9="","",IF(AND($V9<>"",$V9<AsOf),"Left",IF($V9<>"","Leaving",IF(AND($U9<>"",$U9>=AsOf),"Unavailable",IF($T9<>"",$T9,IF(VALUE(LEFT($D9,1))>=3,"Live","Onboarding")))))) -> Unavailable | D9: =IF($J9="","",IF($S9<>"","5. Veteran",IF($R9<>"",IF($K9>=DayVetReview,"4. Veteran review due","3. Newcomer"),IF($O9<>"","2. Shadowing","1. Training")))) -> 5. Veteran | E9: =IF(OR($J9="",$C9="Left",$C9="Leaving"),"",IF(AND($O9="",$K9>DayAbandon),"Gate: training not done by day "&DayAbandon,IF(AND($N9="",$K9>DayTools),"Behind: tools not set up (day "&DayTools&")",IF(AND($O9="",$K9>DayTraining),"Behind: training (day "&DayTraining&")",IF(AND($Q9="",$K9>DayShadowing),"Behind: shadowing (day "&DayShadowing&")",IF(AND($R9="",$K9>DayLive),"Behind: not live yet (day "&DayLive&")",IF(AND(LEFT($D9,1)="3",IF($W9="",TRUE(),AsOf-$W9>NewcomerGap)),"Newcomer: no 1:1 in "&NewcomerGap&"+ days",""))))))) | F9: Billing | G9: Agent | H9: Brazil | I9: Thandi C. | J9: 44691 | K9: =IF($J9="","",IF($V9<>"",MIN($V9,AsOf),AsOf)-$J9) -> 1604 | L9: 10 | M9: Green | N9: 44700 | O9: 44703 | P9: 0.96 | Q9: 44734 | R9: 44736 | S9: 44775 | U9: 46314 | V9: =IF($A9="","",IFERROR(IF(INDEX(Leavers!$E$2:$E$301,MATCH($A9,Leavers!$A$2:$A$301,0))="","",INDEX(Leavers!$E$2:$E$301,MATCH($A9,Leavers!$A$2:$A$301,0))),"")) | W9: =IF($A9="","",IF(COUNTIF('Conversation log'!$B$2:$B$1001,$A9)=0,"",_xlfn.MAXIFS('Conversation log'!$A$2:$A$1001,'Conversation log'!$B$2:$B$1001,$A9))) -> 46290 | X9: Extended leave, back 19 Oct
A10: P009 | B10: Bianca A. | C10: =IF($J10="","",IF(AND($V10<>"",$V10<AsOf),"Left",IF($V10<>"","Leaving",IF(AND($U10<>"",$U10>=AsOf),"Unavailable",IF($T10<>"",$T10,IF(VALUE(LEFT($D10,1))>=3,"Live","Onboarding")))))) -> Left | D10: =IF($J10="","",IF($S10<>"","5. Veteran",IF($R10<>"",IF($K10>=DayVetReview,"4. Veteran review due","3. Newcomer"),IF($O10<>"","2. Shadowing","1. Training")))) -> 5. Veteran | E10: =IF(OR($J10="",$C10="Left",$C10="Leaving"),"",IF(AND($O10="",$K10>DayAbandon),"Gate: training not done by day "&DayAbandon,IF(AND($N10="",$K10>DayTools),"Behind: tools not set up (day "&DayTools&")",IF(AND($O10="",$K10>DayTraining),"Behind: training (day "&DayTraining&")",IF(AND($Q10="",$K10>DayShadowing),"Behind: shadowing (day "&DayShadowing&")",IF(AND($R10="",$K10>DayLive),"Behind: not live yet (day "&DayLive&")",IF(AND(LEFT($D10,1)="3",IF($W10="",TRUE(),AsOf-$W10>NewcomerGap)),"Newcomer: no 1:1 in "&NewcomerGap&"+ days",""))))))) | F10: Tickets | G10: Agent | H10: Portugal | I10: Paula V. | J10: 44718 | K10: =IF($J10="","",IF($V10<>"",MIN($V10,AsOf),AsOf)-$J10) -> 1057 | L10: 20 | M10: Amber | N10: 44727 | O10: 44737 | P10: 0.87 | Q10: 44752 | R10: 44757 | S10: 44802 | V10: =IF($A10="","",IFERROR(IF(INDEX(Leavers!$E$2:$E$301,MATCH($A10,Leavers!$A$2:$A$301,0))="","",INDEX(Leavers!$E$2:$E$301,MATCH($A10,Leavers!$A$2:$A$301,0))),"")) -> 45775 | W10: =IF($A10="","",IF(COUNTIF('Conversation log'!$B$2:$B$1001,$A10)=0,"",_xlfn.MAXIFS('Conversation log'!$A$2:$A$1001,'Conversation log'!$B$2:$B$1001,$A10)))
A11: P010 | B11: Gideon H. | C11: =IF($J11="","",IF(AND($V11<>"",$V11<AsOf),"Left",IF($V11<>"","Leaving",IF(AND($U11<>"",$U11>=AsOf),"Unavailable",IF($T11<>"",$T11,IF(VALUE(LEFT($D11,1))>=3,"Live","Onboarding")))))) -> Live | D11: =IF($J11="","",IF($S11<>"","5. Veteran",IF($R11<>"",IF($K11>=DayVetReview,"4. Veteran review due","3. Newcomer"),IF($O11<>"","2. Shadowing","1. Training")))) -> 5. Veteran | E11: =IF(OR($J11="",$C11="Left",$C11="Leaving"),"",IF(AND($O11="",$K11>DayAbandon),"Gate: training not done by day "&DayAbandon,IF(AND($N11="",$K11>DayTools),"Behind: tools not set up (day "&DayTools&")",IF(AND($O11="",$K11>DayTraining),"Behind: training (day "&DayTraining&")",IF(AND($Q11="",$K11>DayShadowing),"Behind: shadowing (day "&DayShadowing&")",IF(AND($R11="",$K11>DayLive),"Behind: not live yet (day "&DayLive&")",IF(AND(LEFT($D11,1)="3",IF($W11="",TRUE(),AsOf-$W11>NewcomerGap)),"Newcomer: no 1:1 in "&NewcomerGap&"+ days",""))))))) | F11: Chat | G11: Senior agent | H11: Mexico | I11: Elif K. | J11: 44721 | K11: =IF($J11="","",IF($V11<>"",MIN($V11,AsOf),AsOf)-$J11) -> 1574 | L11: 30 | M11: Green | N11: 44730 | O11: 44737 | P11: 0.97 | Q11: 44761 | R11: 44763 | S11: 44809 | V11: =IF($A11="","",IFERROR(IF(INDEX(Leavers!$E$2:$E$301,MATCH($A11,Leavers!$A$2:$A$301,0))="","",INDEX(Leavers!$E$2:$E$301,MATCH($A11,Leavers!$A$2:$A$301,0))),"")) | W11: =IF($A11="","",IF(COUNTIF('Conversation log'!$B$2:$B$1001,$A11)=0,"",_xlfn.MAXIFS('Conversation log'!$A$2:$A$1001,'Conversation log'!$B$2:$B$1001,$A11))) -> 46294
A12: P011 | B12: Omar R. | C12: =IF($J12="","",IF(AND($V12<>"",$V12<AsOf),"Left",IF($V12<>"","Leaving",IF(AND($U12<>"",$U12>=AsOf),"Unavailable",IF($T12<>"",$T12,IF(VALUE(LEFT($D12,1))>=3,"Live","Onboarding")))))) -> Left | D12: =IF($J12="","",IF($S12<>"","5. Veteran",IF($R12<>"",IF($K12>=DayVetReview,"4. Veteran review due","3. Newcomer"),IF($O12<>"","2. Shadowing","1. Training")))) -> 5. Veteran | E12: =IF(OR($J12="",$C12="Left",$C12="Leaving"),"",IF(AND($O12="",$K12>DayAbandon),"Gate: training not done by day "&DayAbandon,IF(AND($N12="",$K12>DayTools),"Behind: tools not set up (day "&DayTools&")",IF(AND($O12="",$K12>DayTraining),"Behind: training (day "&DayTraining&")",IF(AND($Q12="",$K12>DayShadowing),"Behind: shadowing (day "&DayShadowing&")",IF(AND($R12="",$K12>DayLive),"Behind: not live yet (day "&DayLive&")",IF(AND(LEFT($D12,1)="3",IF($W12="",TRUE(),AsOf-$W12>NewcomerGap)),"Newcomer: no 1:1 in "&NewcomerGap&"+ days",""))))))) | F12: Billing | G12: Agent | H12: Brazil | I12: Thandi C. | J12: 44725 | K12: =IF($J12="","",IF($V12<>"",MIN($V12,AsOf),AsOf)-$J12) -> 1002 | L12: 20 | M12: Amber | N12: 44733 | O12: 44740 | P12: 0.92 | Q12: 44764 | R12: 44768 | S12: 44814 | V12: =IF($A12="","",IFERROR(IF(INDEX(Leavers!$E$2:$E$301,MATCH($A12,Leavers!$A$2:$A$301,0))="","",INDEX(Leavers!$E$2:$E$301,MATCH($A12,Leavers!$A$2:$A$301,0))),"")) -> 45727 | W12: =IF($A12="","",IF(COUNTIF('Conversation log'!$B$2:$B$1001,$A12)=0,"",_xlfn.MAXIFS('Conversation log'!$A$2:$A$1001,'Conversation log'!$B$2:$B$1001,$A12)))
A13: P012 | B13: Kemi B. | C13: =IF($J13="","",IF(AND($V13<>"",$V13<AsOf),"Left",IF($V13<>"","Leaving",IF(AND($U13<>"",$U13>=AsOf),"Unavailable",IF($T13<>"",$T13,IF(VALUE(LEFT($D13,1))>=3,"Live","Onboarding")))))) -> Live | D13: =IF($J13="","",IF($S13<>"","5. Veteran",IF($R13<>"",IF($K13>=DayVetReview,"4. Veteran review due","3. Newcomer"),IF($O13<>"","2. Shadowing","1. Training")))) -> 5. Veteran | E13: =IF(OR($J13="",$C13="Left",$C13="Leaving"),"",IF(AND($O13="",$K13>DayAbandon),"Gate: training not done by day "&DayAbandon,IF(AND($N13="",$K13>DayTools),"Behind: tools not set up (day "&DayTools&")",IF(AND($O13="",$K13>DayTraining),"Behind: training (day "&DayTraining&")",IF(AND($Q13="",$K13>DayShadowing),"Behind: shadowing (day "&DayShadowing&")",IF(AND($R13="",$K13>DayLive),"Behind: not live yet (day "&DayLive&")",IF(AND(LEFT($D13,1)="3",IF($W13="",TRUE(),AsOf-$W13>NewcomerGap)),"Newcomer: no 1:1 in "&NewcomerGap&"+ days",""))))))) | F13: Chat | G13: Agent | H13: Colombia | I13: Elif K. | J13: 44753 | K13: =IF($J13="","",IF($V13<>"",MIN($V13,AsOf),AsOf)-$J13) -> 1542 | L13: 20 | M13: Green | N13: 44762 | O13: 44770 | P13: 0.96 | Q13: 44794 | R13: 44797 | S13: 44843 | V13: =IF($A13="","",IFERROR(IF(INDEX(Leavers!$E$2:$E$301,MATCH($A13,Leavers!$A$2:$A$301,0))="","",INDEX(Leavers!$E$2:$E$301,MATCH($A13,Leavers!$A$2:$A$301,0))),"")) | W13: =IF($A13="","",IF(COUNTIF('Conversation log'!$B$2:$B$1001,$A13)=0,"",_xlfn.MAXIFS('Conversation log'!$A$2:$A$1001,'Conversation log'!$B$2:$B$1001,$A13))) -> 46289
A14: P013 | B14: Femi W. | C14: =IF($J14="","",IF(AND($V14<>"",$V14<AsOf),"Left",IF($V14<>"","Leaving",IF(AND($U14<>"",$U14>=AsOf),"Unavailable",IF($T14<>"",$T14,IF(VALUE(LEFT($D14,1))>=3,"Live","Onboarding")))))) -> Live | D14: =IF($J14="","",IF($S14<>"","5. Veteran",IF($R14<>"",IF($K14>=DayVetReview,"4. Veteran review due","3. Newcomer"),IF($O14<>"","2. Shadowing","1. Training")))) -> 5. Veteran | E14: =IF(OR($J14="",$C14="Left",$C14="Leaving"),"",IF(AND($O14="",$K14>DayAbandon),"Gate: training not done by day "&DayAbandon,IF(AND($N14="",$K14>DayTools),"Behind: tools not set up (day "&DayTools&")",IF(AND($O14="",$K14>DayTraining),"Behind: training (day "&DayTraining&")",IF(AND($Q14="",$K14>DayShadowing),"Behind: shadowing (day "&DayShadowing&")",IF(AND($R14="",$K14>DayLive),"Behind: not live yet (day "&DayLive&")",IF(AND(LEFT($D14,1)="3",IF($W14="",TRUE(),AsOf-$W14>NewcomerGap)),"Newcomer: no 1:1 in "&NewcomerGap&"+ days",""))))))) | F14: Phone | G14: Agent | H14: Kenya | I14: Zeynep W. | J14: 44755 | K14: =IF($J14="","",IF($V14<>"",MIN($V14,AsOf),AsOf)-$J14) -> 1540 | L14: 20 | M14: Green | N14: 44761 | O14: 44780 | P14: 0.91 | Q14: 44787 | R14: 44788 | S14: 44843 | V14: =IF($A14="","",IFERROR(IF(INDEX(Leavers!$E$2:$E$301,MATCH($A14,Leavers!$A$2:$A$301,0))="","",INDEX(Leavers!$E$2:$E$301,MATCH($A14,Leavers!$A$2:$A$301,0))),"")) | W14: =IF($A14="","",IF(COUNTIF('Conversation log'!$B$2:$B$1001,$A14)=0,"",_xlfn.MAXIFS('Conversation log'!$A$2:$A$1001,'Conversation log'!$B$2:$B$1001,$A14))) -> 46292
A15: P014 | B15: Wei S. | C15: =IF($J15="","",IF(AND($V15<>"",$V15<AsOf),"Left",IF($V15<>"","Leaving",IF(AND($U15<>"",$U15>=AsOf),"Unavailable",IF($T15<>"",$T15,IF(VALUE(LEFT($D15,1))>=3,"Live","Onboarding")))))) -> Live | D15: =IF($J15="","",IF($S15<>"","5. Veteran",IF($R15<>"",IF($K15>=DayVetReview,"4. Veteran review due","3. Newcomer"),IF($O15<>"","2. Shadowing","1. Training")))) -> 5. Veteran | E15: =IF(OR($J15="",$C15="Left",$C15="Leaving"),"",IF(AND($O15="",$K15>DayAbandon),"Gate: training not done by day "&DayAbandon,IF(AND($N15="",$K15>DayTools),"Behind: tools not set up (day "&DayTools&")",IF(AND($O15="",$K15>DayTraining),"Behind: training (day "&DayTraining&")",IF(AND($Q15="",$K15>DayShadowing),"Behind: shadowing (day "&DayShadowing&")",IF(AND($R15="",$K15>DayLive),"Behind: not live yet (day "&DayLive&")",IF(AND(LEFT($D15,1)="3",IF($W15="",TRUE(),AsOf-$W15>NewcomerGap)),"Newcomer: no 1:1 in "&NewcomerGap&"+ days",""))))))) | F15: Billing | G15: Agent | H15: Romania | I15: Thandi C. | J15: 44776 | K15: =IF($J15="","",IF($V15<>"",MIN($V15,AsOf),AsOf)-$J15) -> 1519 | L15: 20 | M15: Green | N15: 44780 | O15: 44792 | P15: 0.96 | Q15: 44815 | R15: 44819 | S15: 44861 | V15: =IF($A15="","",IFERROR(IF(INDEX(Leavers!$E$2:$E$301,MATCH($A15,Leavers!$A$2:$A$301,0))="","",INDEX(Leavers!$E$2:$E$301,MATCH($A15,Leavers!$A$2:$A$301,0))),"")) | W15: =IF($A15="","",IF(COUNTIF('Conversation log'!$B$2:$B$1001,$A15)=0,"",_xlfn.MAXIFS('Conversation log'!$A$2:$A$1001,'Conversation log'!$B$2:$B$1001,$A15))) -> 46294
A16: P015 | B16: Femi I. | C16: =IF($J16="","",IF(AND($V16<>"",$V16<AsOf),"Left",IF($V16<>"","Leaving",IF(AND($U16<>"",$U16>=AsOf),"Unavailable",IF($T16<>"",$T16,IF(VALUE(LEFT($D16,1))>=3,"Live","Onboarding")))))) -> Left | D16: =IF($J16="","",IF($S16<>"","5. Veteran",IF($R16<>"",IF($K16>=DayVetReview,"4. Veteran review due","3. Newcomer"),IF($O16<>"","2. Shadowing","1. Training")))) -> 5. Veteran | E16: =IF(OR($J16="",$C16="Left",$C16="Leaving"),"",IF(AND($O16="",$K16>DayAbandon),"Gate: training not done by day "&DayAbandon,IF(AND($N16="",$K16>DayTools),"Behind: tools not set up (day "&DayTools&")",IF(AND($O16="",$K16>DayTraining),"Behind: training (day "&DayTraining&")",IF(AND($Q16="",$K16>DayShadowing),"Behind: shadowing (day "&DayShadowing&")",IF(AND($R16="",$K16>DayLive),"Behind: not live yet (day "&DayLive&")",IF(AND(LEFT($D16,1)="3",IF($W16="",TRUE(),AsOf-$W16>NewcomerGap)),"Newcomer: no 1:1 in "&NewcomerGap&"+ days",""))))))) | F16: Billing | G16: Agent | H16: Colombia | I16: Thandi C. | J16: 44781 | K16: =IF($J16="","",IF($V16<>"",MIN($V16,AsOf),AsOf)-$J16) -> 1386 | L16: 20 | M16: Green | N16: 44787 | O16: 44807 | P16: 1 | Q16: 44814 | R16: 44815 | S16: 44870 | V16: =IF($A16="","",IFERROR(IF(INDEX(Leavers!$E$2:$E$301,MATCH($A16,Leavers!$A$2:$A$301,0))="","",INDEX(Leavers!$E$2:$E$301,MATCH($A16,Leavers!$A$2:$A$301,0))),"")) -> 46167 | W16: =IF($A16="","",IF(COUNTIF('Conversation log'!$B$2:$B$1001,$A16)=0,"",_xlfn.MAXIFS('Conversation log'!$A$2:$A$1001,'Conversation log'!$B$2:$B$1001,$A16)))
A17: P016 | B17: Bilal T. | C17: =IF($J17="","",IF(AND($V17<>"",$V17<AsOf),"Left",IF($V17<>"","Leaving",IF(AND($U17<>"",$U17>=AsOf),"Unavailable",IF($T17<>"",$T17,IF(VALUE(LEFT($D17,1))>=3,"Live","Onboarding")))))) -> Live | D17: =IF($J17="","",IF($S17<>"","5. Veteran",IF($R17<>"",IF($K17>=DayVetReview,"4. Veteran review due","3. Newcomer"),IF($O17<>"","2. Shadowing","1. Training")))) -> 5. Veteran | E17: =IF(OR($J17="",$C17="Left",$C17="Leaving"),"",IF(AND($O17="",$K17>DayAbandon),"Gate: training not done by day "&DayAbandon,IF(AND($N17="",$K17>DayTools),"Behind: tools not set up (day "&DayTools&")",IF(AND($O17="",$K17>DayTraining),"Behind: training (day "&DayTraining&")",IF(AND($Q17="",$K17>DayShadowing),"Behind: shadowing (day "&DayShadowing&")",IF(AND($R17="",$K17>DayLive),"Behind: not live yet (day "&DayLive&")",IF(AND(LEFT($D17,1)="3",IF($W17="",TRUE(),AsOf-$W17>NewcomerGap)),"Newcomer: no 1:1 in "&NewcomerGap&"+ days",""))))))) | F17: Phone | G17: Senior agent | H17: India | I17: Zeynep W. | J17: 44795 | K17: =IF($J17="","",IF($V17<>"",MIN($V17,AsOf),AsOf)-$J17) -> 1500 | L17: 10 | M17: Green | N17: 44799 | O17: 44809 | P17: 0.91 | Q17: 44833 | R17: 44835 | S17: 44882 | V17: =IF($A17="","",IFERROR(IF(INDEX(Leavers!$E$2:$E$301,MATCH($A17,Leavers!$A$2:$A$301,0))="","",INDEX(Leavers!$E$2:$E$301,MATCH($A17,Leavers!$A$2:$A$301,0))),"")) | W17: =IF($A17="","",IF(COUNTIF('Conversation log'!$B$2:$B$1001,$A17)=0,"",_xlfn.MAXIFS('Conversation log'!$A$2:$A$1001,'Conversation log'!$B$2:$B$1001,$A17))) -> 46290
A18: P017 | B18: Elif K. | C18: =IF($J18="","",IF(AND($V18<>"",$V18<AsOf),"Left",IF($V18<>"","Leaving",IF(AND($U18<>"",$U18>=AsOf),"Unavailable",IF($T18<>"",$T18,IF(VALUE(LEFT($D18,1))>=3,"Live","Onboarding")))))) -> Live | D18: =IF($J18="","",IF($S18<>"","5. Veteran",IF($R18<>"",IF($K18>=DayVetReview,"4. Veteran review due","3. Newcomer"),IF($O18<>"","2. Shadowing","1. Training")))) -> 5. Veteran | E18: =IF(OR($J18="",$C18="Left",$C18="Leaving"),"",IF(AND($O18="",$K18>DayAbandon),"Gate: training not done by day "&DayAbandon,IF(AND($N18="",$K18>DayTools),"Behind: tools not set up (day "&DayTools&")",IF(AND($O18="",$K18>DayTraining),"Behind: training (day "&DayTraining&")",IF(AND($Q18="",$K18>DayShadowing),"Behind: shadowing (day "&DayShadowing&")",IF(AND($R18="",$K18>DayLive),"Behind: not live yet (day "&DayLive&")",IF(AND(LEFT($D18,1)="3",IF($W18="",TRUE(),AsOf-$W18>NewcomerGap)),"Newcomer: no 1:1 in "&NewcomerGap&"+ days",""))))))) | F18: Team leads | G18: Team lead | H18: Mexico | I18: Operations manager | J18: 44797 | K18: =IF($J18="","",IF($V18<>"",MIN($V18,AsOf),AsOf)-$J18) -> 1498 | L18: 30 | M18: Green | N18: 44800 | O18: 44811 | P18: 1 | Q18: 44827 | R18: 44830 | S18: 44885 | V18: =IF($A18="","",IFERROR(IF(INDEX(Leavers!$E$2:$E$301,MATCH($A18,Leavers!$A$2:$A$301,0))="","",INDEX(Leavers!$E$2:$E$301,MATCH($A18,Leavers!$A$2:$A$301,0))),"")) | W18: =IF($A18="","",IF(COUNTIF('Conversation log'!$B$2:$B$1001,$A18)=0,"",_xlfn.MAXIFS('Conversation log'!$A$2:$A$1001,'Conversation log'!$B$2:$B$1001,$A18)))
A19: P018 | B19: Gabriel L. | C19: =IF($J19="","",IF(AND($V19<>"",$V19<AsOf),"Left",IF($V19<>"","Leaving",IF(AND($U19<>"",$U19>=AsOf),"Unavailable",IF($T19<>"",$T19,IF(VALUE(LEFT($D19,1))>=3,"Live","Onboarding")))))) -> Left | D19: =IF($J19="","",IF($S19<>"","5. Veteran",IF($R19<>"",IF($K19>=DayVetReview,"4. Veteran review due","3. Newcomer"),IF($O19<>"","2. Shadowing","1. Training")))) -> 5. Veteran | E19: =IF(OR($J19="",$C19="Left",$C19="Leaving"),"",IF(AND($O19="",$K19>DayAbandon),"Gate: training not done by day "&DayAbandon,IF(AND($N19="",$K19>DayTools),"Behind: tools not set up (day "&DayTools&")",IF(AND($O19="",$K19>DayTraining),"Behind: training (day "&DayTraining&")",IF(AND($Q19="",$K19>DayShadowing),"Behind: shadowing (day "&DayShadowing&")",IF(AND($R19="",$K19>DayLive),"Behind: not live yet (day "&DayLive&")",IF(AND(LEFT($D19,1)="3",IF($W19="",TRUE(),AsOf-$W19>NewcomerGap)),"Newcomer: no 1:1 in "&NewcomerGap&"+ days",""))))))) | F19: Chat | G19: Agent | H19: Portugal | I19: Elif K. | J19: 44797 | K19: =IF($J19="","",IF($V19<>"",MIN($V19,AsOf),AsOf)-$J19) -> 908 | L19: 20 | M19: Red | N19: 44802 | O19: 44818 | P19: 0.76 | Q19: 44835 | R19: 44836 | S19: 44903 | V19: =IF($A19="","",IFERROR(IF(INDEX(Leavers!$E$2:$E$301,MATCH($A19,Leavers!$A$2:$A$301,0))="","",INDEX(Leavers!$E$2:$E$301,MATCH($A19,Leavers!$A$2:$A$301,0))),"")) -> 45705 | W19: =IF($A19="","",IF(COUNTIF('Conversation log'!$B$2:$B$1001,$A19)=0,"",_xlfn.MAXIFS('Conversation log'!$A$2:$A$1001,'Conversation log'!$B$2:$B$1001,$A19)))
A20: P019 | B20: Rania G. | C20: =IF($J20="","",IF(AND($V20<>"",$V20<AsOf),"Left",IF($V20<>"","Leaving",IF(AND($U20<>"",$U20>=AsOf),"Unavailable",IF($T20<>"",$T20,IF(VALUE(LEFT($D20,1))>=3,"Live","Onboarding")))))) -> Left | D20: =IF($J20="","",IF($S20<>"","5. Veteran",IF($R20<>"",IF($K20>=DayVetReview,"4. Veteran review due","3. Newcomer"),IF($O20<>"","2. Shadowing","1. Training")))) -> 5. Veteran | E20: =IF(OR($J20="",$C20="Left",$C20="Leaving"),"",IF(AND($O20="",$K20>DayAbandon),"Gate: training not done by day "&DayAbandon,IF(AND($N20="",$K20>DayTools),"Behind: tools not set up (day "&DayTools&")",IF(AND($O20="",$K20>DayTraining),"Behind: training (day "&DayTraining&")",IF(AND($Q20="",$K20>DayShadowing),"Behind: shadowing (day "&DayShadowing&")",IF(AND($R20="",$K20>DayLive),"Behind: not live yet (day "&DayLive&")",IF(AND(LEFT($D20,1)="3",IF($W20="",TRUE(),AsOf-$W20>NewcomerGap)),"Newcomer: no 1:1 in "&NewcomerGap&"+ days",""))))))) | F20: Chat | G20: Senior agent | H20: Colombia | I20: Elif K. | J20: 44824 | K20: =IF($J20="","",IF($V20<>"",MIN($V20,AsOf),AsOf)-$J20) -> 1378 | L20: 20 | M20: Green | N20: 44832 | O20: 44844 | P20: 0.94 | Q20: 44858 | R20: 44860 | S20: 44911 | V20: =IF($A20="","",IFERROR(IF(INDEX(Leavers!$E$2:$E$301,MATCH($A20,Leavers!$A$2:$A$301,0))="","",INDEX(Leavers!$E$2:$E$301,MATCH($A20,Leavers!$A$2:$A$301,0))),"")) -> 46202 | W20: =IF($A20="","",IF(COUNTIF('Conversation log'!$B$2:$B$1001,$A20)=0,"",_xlfn.MAXIFS('Conversation log'!$A$2:$A$1001,'Conversation log'!$B$2:$B$1001,$A20)))
A21: P020 | B21: Dimitra F. | C21: =IF($J21="","",IF(AND($V21<>"",$V21<AsOf),"Left",IF($V21<>"","Leaving",IF(AND($U21<>"",$U21>=AsOf),"Unavailable",IF($T21<>"",$T21,IF(VALUE(LEFT($D21,1))>=3,"Live","Onboarding")))))) -> Live | D21: =IF($J21="","",IF($S21<>"","5. Veteran",IF($R21<>"",IF($K21>=DayVetReview,"4. Veteran review due","3. Newcomer"),IF($O21<>"","2. Shadowing","1. Training")))) -> 5. Veteran | E21: =IF(OR($J21="",$C21="Left",$C21="Leaving"),"",IF(AND($O21="",$K21>DayAbandon),"Gate: training not done by day "&DayAbandon,IF(AND($N21="",$K21>DayTools),"Behind: tools not set up (day "&DayTools&")",IF(AND($O21="",$K21>DayTraining),"Behind: training (day "&DayTraining&")",IF(AND($Q21="",$K21>DayShadowing),"Behind: shadowing (day "&DayShadowing&")",IF(AND($R21="",$K21>DayLive),"Behind: not live yet (day "&DayLive&")",IF(AND(LEFT($D21,1)="3",IF($W21="",TRUE(),AsOf-$W21>NewcomerGap)),"Newcomer: no 1:1 in "&NewcomerGap&"+ days",""))))))) | F21: Chat | G21: Senior agent | H21: Philippines | I21: Elif K. | J21: 44876 | K21: =IF($J21="","",IF($V21<>"",MIN($V21,AsOf),AsOf)-$J21) -> 1419 | L21: 20 | M21: Amber | N21: 44881 | O21: 44888 | P21: 0.81 | Q21: 44915 | R21: 44920 | S21: 44960 | V21: =IF($A21="","",IFERROR(IF(INDEX(Leavers!$E$2:$E$301,MATCH($A21,Leavers!$A$2:$A$301,0))="","",INDEX(Leavers!$E$2:$E$301,MATCH($A21,Leavers!$A$2:$A$301,0))),"")) | W21: =IF($A21="","",IF(COUNTIF('Conversation log'!$B$2:$B$1001,$A21)=0,"",_xlfn.MAXIFS('Conversation log'!$A$2:$A$1001,'Conversation log'!$B$2:$B$1001,$A21))) -> 46295
... A41: P040 | B41: Ximena I. | C41: =IF($J41="","",IF(AND($V41<>"",$V41<AsOf),"Left",IF($V41<>"","Leaving",IF(AND($U41<>"",$U41>=AsOf),"Unavailable",IF($T41<>"",$T41,IF(VALUE(LEFT($D41,1))>=3,"Live","Onboarding")))))) -> Live | D41: =IF($J41="","",IF($S41<>"","5. Veteran",IF($R41<>"",IF($K41>=DayVetReview,"4. Veteran review due","3. Newcomer"),IF($O41<>"","2. Shadowing","1. Training")))) -> 5. Veteran | E41: =IF(OR($J41="",$C41="Left",$C41="Leaving"),"",IF(AND($O41="",$K41>DayAbandon),"Gate: training not done by day "&DayAbandon,IF(AND($N41="",$K41>DayTools),"Behind: tools not set up (day "&DayTools&")",IF(AND($O41="",$K41>DayTraining),"Behind: training (day "&DayTraining&")",IF(AND($Q41="",$K41>DayShadowing),"Behind: shadowing (day "&DayShadowing&")",IF(AND($R41="",$K41>DayLive),"Behind: not live yet (day "&DayLive&")",IF(AND(LEFT($D41,1)="3",IF($W41="",TRUE(),AsOf-$W41>NewcomerGap)),"Newcomer: no 1:1 in "&NewcomerGap&"+ days",""))))))) | F41: Phone | G41: Agent | H41: Brazil | I41: Zeynep W. | J41: 45484 | K41: =IF($J41="","",IF($V41<>"",MIN($V41,AsOf),AsOf)-$J41) -> 811 | L41: 20 | M41: Green | N41: 45490 | O41: 45505 | P41: 0.94 | Q41: 45519 | R41: 45521 | S41: 45570 | V41: =IF($A41="","",IFERROR(IF(INDEX(Leavers!$E$2:$E$301,MATCH($A41,Leavers!$A$2:$A$301,0))="","",INDEX(Leavers!$E$2:$E$301,MATCH($A41,Leavers!$A$2:$A$301,0))),"")) | W41: =IF($A41="","",IF(COUNTIF('Conversation log'!$B$2:$B$1001,$A41)=0,"",_xlfn.MAXIFS('Conversation log'!$A$2:$A$1001,'Conversation log'!$B$2:$B$1001,$A41))) -> 46292
A42: P041 | B42: Pedro E. | C42: =IF($J42="","",IF(AND($V42<>"",$V42<AsOf),"Left",IF($V42<>"","Leaving",IF(AND($U42<>"",$U42>=AsOf),"Unavailable",IF($T42<>"",$T42,IF(VALUE(LEFT($D42,1))>=3,"Live","Onboarding")))))) -> Left | D42: =IF($J42="","",IF($S42<>"","5. Veteran",IF($R42<>"",IF($K42>=DayVetReview,"4. Veteran review due","3. Newcomer"),IF($O42<>"","2. Shadowing","1. Training")))) -> 3. Newcomer | E42: =IF(OR($J42="",$C42="Left",$C42="Leaving"),"",IF(AND($O42="",$K42>DayAbandon),"Gate: training not done by day "&DayAbandon,IF(AND($N42="",$K42>DayTools),"Behind: tools not set up (day "&DayTools&")",IF(AND($O42="",$K42>DayTraining),"Behind: training (day "&DayTraining&")",IF(AND($Q42="",$K42>DayShadowing),"Behind: shadowing (day "&DayShadowing&")",IF(AND($R42="",$K42>DayLive),"Behind: not live yet (day "&DayLive&")",IF(AND(LEFT($D42,1)="3",IF($W42="",TRUE(),AsOf-$W42>NewcomerGap)),"Newcomer: no 1:1 in "&NewcomerGap&"+ days",""))))))) | F42: Billing | G42: Agent | H42: South Africa | I42: Thandi C. | J42: 45572 | K42: =IF($J42="","",IF($V42<>"",MIN($V42,AsOf),AsOf)-$J42) -> 35 | L42: 20 | M42: Amber | N42: 45574 | O42: 45588 | P42: 0.84 | Q42: 45605 | R42: 45607 | V42: =IF($A42="","",IFERROR(IF(INDEX(Leavers!$E$2:$E$301,MATCH($A42,Leavers!$A$2:$A$301,0))="","",INDEX(Leavers!$E$2:$E$301,MATCH($A42,Leavers!$A$2:$A$301,0))),"")) -> 45607 | W42: =IF($A42="","",IF(COUNTIF('Conversation log'!$B$2:$B$1001,$A42)=0,"",_xlfn.MAXIFS('Conversation log'!$A$2:$A$1001,'Conversation log'!$B$2:$B$1001,$A42)))
A43: P042 | B43: Zeynep H. | C43: =IF($J43="","",IF(AND($V43<>"",$V43<AsOf),"Left",IF($V43<>"","Leaving",IF(AND($U43<>"",$U43>=AsOf),"Unavailable",IF($T43<>"",$T43,IF(VALUE(LEFT($D43,1))>=3,"Live","Onboarding")))))) -> Left | D43: =IF($J43="","",IF($S43<>"","5. Veteran",IF($R43<>"",IF($K43>=DayVetReview,"4. Veteran review due","3. Newcomer"),IF($O43<>"","2. Shadowing","1. Training")))) -> 2. Shadowing | E43: =IF(OR($J43="",$C43="Left",$C43="Leaving"),"",IF(AND($O43="",$K43>DayAbandon),"Gate: training not done by day "&DayAbandon,IF(AND($N43="",$K43>DayTools),"Behind: tools not set up (day "&DayTools&")",IF(AND($O43="",$K43>DayTraining),"Behind: training (day "&DayTraining&")",IF(AND($Q43="",$K43>DayShadowing),"Behind: shadowing (day "&DayShadowing&")",IF(AND($R43="",$K43>DayLive),"Behind: not live yet (day "&DayLive&")",IF(AND(LEFT($D43,1)="3",IF($W43="",TRUE(),AsOf-$W43>NewcomerGap)),"Newcomer: no 1:1 in "&NewcomerGap&"+ days",""))))))) | F43: Chat | G43: Agent | H43: Colombia | I43: Elif K. | J43: 45576 | K43: =IF($J43="","",IF($V43<>"",MIN($V43,AsOf),AsOf)-$J43) -> 27 | L43: 20 | M43: Amber | N43: 45582 | O43: 45589 | P43: 0.83 | V43: =IF($A43="","",IFERROR(IF(INDEX(Leavers!$E$2:$E$301,MATCH($A43,Leavers!$A$2:$A$301,0))="","",INDEX(Leavers!$E$2:$E$301,MATCH($A43,Leavers!$A$2:$A$301,0))),"")) -> 45603 | W43: =IF($A43="","",IF(COUNTIF('Conversation log'!$B$2:$B$1001,$A43)=0,"",_xlfn.MAXIFS('Conversation log'!$A$2:$A$1001,'Conversation log'!$B$2:$B$1001,$A43)))
A44: P043 | B44: Zeynep G. | C44: =IF($J44="","",IF(AND($V44<>"",$V44<AsOf),"Left",IF($V44<>"","Leaving",IF(AND($U44<>"",$U44>=AsOf),"Unavailable",IF($T44<>"",$T44,IF(VALUE(LEFT($D44,1))>=3,"Live","Onboarding")))))) -> Left | D44: =IF($J44="","",IF($S44<>"","5. Veteran",IF($R44<>"",IF($K44>=DayVetReview,"4. Veteran review due","3. Newcomer"),IF($O44<>"","2. Shadowing","1. Training")))) -> 5. Veteran | E44: =IF(OR($J44="",$C44="Left",$C44="Leaving"),"",IF(AND($O44="",$K44>DayAbandon),"Gate: training not done by day "&DayAbandon,IF(AND($N44="",$K44>DayTools),"Behind: tools not set up (day "&DayTools&")",IF(AND($O44="",$K44>DayTraining),"Behind: training (day "&DayTraining&")",IF(AND($Q44="",$K44>DayShadowing),"Behind: shadowing (day "&DayShadowing&")",IF(AND($R44="",$K44>DayLive),"Behind: not live yet (day "&DayLive&")",IF(AND(LEFT($D44,1)="3",IF($W44="",TRUE(),AsOf-$W44>NewcomerGap)),"Newcomer: no 1:1 in "&NewcomerGap&"+ days",""))))))) | F44: Phone | G44: Agent | H44: Kenya | I44: Zeynep W. | J44: 45579 | K44: =IF($J44="","",IF($V44<>"",MIN($V44,AsOf),AsOf)-$J44) -> 294 | L44: 20 | M44: Amber | N44: 45584 | O44: 45594 | P44: 0.81 | Q44: 45621 | R44: 45624 | S44: 45670 | V44: =IF($A44="","",IFERROR(IF(INDEX(Leavers!$E$2:$E$301,MATCH($A44,Leavers!$A$2:$A$301,0))="","",INDEX(Leavers!$E$2:$E$301,MATCH($A44,Leavers!$A$2:$A$301,0))),"")) -> 45873 | W44: =IF($A44="","",IF(COUNTIF('Conversation log'!$B$2:$B$1001,$A44)=0,"",_xlfn.MAXIFS('Conversation log'!$A$2:$A$1001,'Conversation log'!$B$2:$B$1001,$A44)))
A45: P044 | B45: Hiroshi D. | C45: =IF($J45="","",IF(AND($V45<>"",$V45<AsOf),"Left",IF($V45<>"","Leaving",IF(AND($U45<>"",$U45>=AsOf),"Unavailable",IF($T45<>"",$T45,IF(VALUE(LEFT($D45,1))>=3,"Live","Onboarding")))))) -> Live | D45: =IF($J45="","",IF($S45<>"","5. Veteran",IF($R45<>"",IF($K45>=DayVetReview,"4. Veteran review due","3. Newcomer"),IF($O45<>"","2. Shadowing","1. Training")))) -> 5. Veteran | E45: =IF(OR($J45="",$C45="Left",$C45="Leaving"),"",IF(AND($O45="",$K45>DayAbandon),"Gate: training not done by day "&DayAbandon,IF(AND($N45="",$K45>DayTools),"Behind: tools not set up (day "&DayTools&")",IF(AND($O45="",$K45>DayTraining),"Behind: training (day "&DayTraining&")",IF(AND($Q45="",$K45>DayShadowing),"Behind: shadowing (day "&DayShadowing&")",IF(AND($R45="",$K45>DayLive),"Behind: not live yet (day "&DayLive&")",IF(AND(LEFT($D45,1)="3",IF($W45="",TRUE(),AsOf-$W45>NewcomerGap)),"Newcomer: no 1:1 in "&NewcomerGap&"+ days",""))))))) | F45: Chat | G45: Agent | H45: Brazil | I45: Elif K. | J45: 45581 | K45: =IF($J45="","",IF($V45<>"",MIN($V45,AsOf),AsOf)-$J45) -> 714 | L45: 20 | M45: Amber | N45: 45585 | O45: 45601 | P45: 0.92 | Q45: 45616 | R45: 45621 | S45: 45665 | V45: =IF($A45="","",IFERROR(IF(INDEX(Leavers!$E$2:$E$301,MATCH($A45,Leavers!$A$2:$A$301,0))="","",INDEX(Leavers!$E$2:$E$301,MATCH($A45,Leavers!$A$2:$A$301,0))),"")) | W45: =IF($A45="","",IF(COUNTIF('Conversation log'!$B$2:$B$1001,$A45)=0,"",_xlfn.MAXIFS('Conversation log'!$A$2:$A$1001,'Conversation log'!$B$2:$B$1001,$A45))) -> 46287
A46: P045 | B46: Samir K. | C46: =IF($J46="","",IF(AND($V46<>"",$V46<AsOf),"Left",IF($V46<>"","Leaving",IF(AND($U46<>"",$U46>=AsOf),"Unavailable",IF($T46<>"",$T46,IF(VALUE(LEFT($D46,1))>=3,"Live","Onboarding")))))) -> Left | D46: =IF($J46="","",IF($S46<>"","5. Veteran",IF($R46<>"",IF($K46>=DayVetReview,"4. Veteran review due","3. Newcomer"),IF($O46<>"","2. Shadowing","1. Training")))) -> 5. Veteran | E46: =IF(OR($J46="",$C46="Left",$C46="Leaving"),"",IF(AND($O46="",$K46>DayAbandon),"Gate: training not done by day "&DayAbandon,IF(AND($N46="",$K46>DayTools),"Behind: tools not set up (day "&DayTools&")",IF(AND($O46="",$K46>DayTraining),"Behind: training (day "&DayTraining&")",IF(AND($Q46="",$K46>DayShadowing),"Behind: shadowing (day "&DayShadowing&")",IF(AND($R46="",$K46>DayLive),"Behind: not live yet (day "&DayLive&")",IF(AND(LEFT($D46,1)="3",IF($W46="",TRUE(),AsOf-$W46>NewcomerGap)),"Newcomer: no 1:1 in "&NewcomerGap&"+ days",""))))))) | F46: Chat | G46: Agent | H46: Romania | I46: Elif K. | J46: 45586 | K46: =IF($J46="","",IF($V46<>"",MIN($V46,AsOf),AsOf)-$J46) -> 302 | L46: 20 | M46: Green | N46: 45589 | O46: 45600 | P46: 0.97 | Q46: 45628 | R46: 45632 | S46: 45670 | V46: =IF($A46="","",IFERROR(IF(INDEX(Leavers!$E$2:$E$301,MATCH($A46,Leavers!$A$2:$A$301,0))="","",INDEX(Leavers!$E$2:$E$301,MATCH($A46,Leavers!$A$2:$A$301,0))),"")) -> 45888 | W46: =IF($A46="","",IF(COUNTIF('Conversation log'!$B$2:$B$1001,$A46)=0,"",_xlfn.MAXIFS('Conversation log'!$A$2:$A$1001,'Conversation log'!$B$2:$B$1001,$A46)))
A47: P046 | B47: Leila F. | C47: =IF($J47="","",IF(AND($V47<>"",$V47<AsOf),"Left",IF($V47<>"","Leaving",IF(AND($U47<>"",$U47>=AsOf),"Unavailable",IF($T47<>"",$T47,IF(VALUE(LEFT($D47,1))>=3,"Live","Onboarding")))))) -> Left | D47: =IF($J47="","",IF($S47<>"","5. Veteran",IF($R47<>"",IF($K47>=DayVetReview,"4. Veteran review due","3. Newcomer"),IF($O47<>"","2. Shadowing","1. Training")))) -> 1. Training | E47: =IF(OR($J47="",$C47="Left",$C47="Leaving"),"",IF(AND($O47="",$K47>DayAbandon),"Gate: training not done by day "&DayAbandon,IF(AND($N47="",$K47>DayTools),"Behind: tools not set up (day "&DayTools&")",IF(AND($O47="",$K47>DayTraining),"Behind: training (day "&DayTraining&")",IF(AND($Q47="",$K47>DayShadowing),"Behind: shadowing (day "&DayShadowing&")",IF(AND($R47="",$K47>DayLive),"Behind: not live yet (day "&DayLive&")",IF(AND(LEFT($D47,1)="3",IF($W47="",TRUE(),AsOf-$W47>NewcomerGap)),"Newcomer: no 1:1 in "&NewcomerGap&"+ days",""))))))) | F47: Tickets | G47: Agent | H47: Brazil | I47: Paula V. | J47: 45588 | K47: =IF($J47="","",IF($V47<>"",MIN($V47,AsOf),AsOf)-$J47) -> 14 | L47: 20 | M47: Red | N47: 45595 | V47: =IF($A47="","",IFERROR(IF(INDEX(Leavers!$E$2:$E$301,MATCH($A47,Leavers!$A$2:$A$301,0))="","",INDEX(Leavers!$E$2:$E$301,MATCH($A47,Leavers!$A$2:$A$301,0))),"")) -> 45602 | W47: =IF($A47="","",IF(COUNTIF('Conversation log'!$B$2:$B$1001,$A47)=0,"",_xlfn.MAXIFS('Conversation log'!$A$2:$A$1001,'Conversation log'!$B$2:$B$1001,$A47)))
A48: P047 | B48: Uche Z. | C48: =IF($J48="","",IF(AND($V48<>"",$V48<AsOf),"Left",IF($V48<>"","Leaving",IF(AND($U48<>"",$U48>=AsOf),"Unavailable",IF($T48<>"",$T48,IF(VALUE(LEFT($D48,1))>=3,"Live","Onboarding")))))) -> Left | D48: =IF($J48="","",IF($S48<>"","5. Veteran",IF($R48<>"",IF($K48>=DayVetReview,"4. Veteran review due","3. Newcomer"),IF($O48<>"","2. Shadowing","1. Training")))) -> 3. Newcomer | E48: =IF(OR($J48="",$C48="Left",$C48="Leaving"),"",IF(AND($O48="",$K48>DayAbandon),"Gate: training not done by day "&DayAbandon,IF(AND($N48="",$K48>DayTools),"Behind: tools not set up (day "&DayTools&")",IF(AND($O48="",$K48>DayTraining),"Behind: training (day "&DayTraining&")",IF(AND($Q48="",$K48>DayShadowing),"Behind: shadowing (day "&DayShadowing&")",IF(AND($R48="",$K48>DayLive),"Behind: not live yet (day "&DayLive&")",IF(AND(LEFT($D48,1)="3",IF($W48="",TRUE(),AsOf-$W48>NewcomerGap)),"Newcomer: no 1:1 in "&NewcomerGap&"+ days",""))))))) | F48: Phone | G48: Agent | H48: Colombia | I48: Zeynep W. | J48: 45595 | K48: =IF($J48="","",IF($V48<>"",MIN($V48,AsOf),AsOf)-$J48) -> 44 | L48: 15 | M48: Green | N48: 45600 | O48: 45615 | P48: 0.91 | Q48: 45630 | R48: 45634 | V48: =IF($A48="","",IFERROR(IF(INDEX(Leavers!$E$2:$E$301,MATCH($A48,Leavers!$A$2:$A$301,0))="","",INDEX(Leavers!$E$2:$E$301,MATCH($A48,Leavers!$A$2:$A$301,0))),"")) -> 45639 | W48: =IF($A48="","",IF(COUNTIF('Conversation log'!$B$2:$B$1001,$A48)=0,"",_xlfn.MAXIFS('Conversation log'!$A$2:$A$1001,'Conversation log'!$B$2:$B$1001,$A48)))
A49: P048 | B49: Yara J. | C49: =IF($J49="","",IF(AND($V49<>"",$V49<AsOf),"Left",IF($V49<>"","Leaving",IF(AND($U49<>"",$U49>=AsOf),"Unavailable",IF($T49<>"",$T49,IF(VALUE(LEFT($D49,1))>=3,"Live","Onboarding")))))) -> Live | D49: =IF($J49="","",IF($S49<>"","5. Veteran",IF($R49<>"",IF($K49>=DayVetReview,"4. Veteran review due","3. Newcomer"),IF($O49<>"","2. Shadowing","1. Training")))) -> 5. Veteran | E49: =IF(OR($J49="",$C49="Left",$C49="Leaving"),"",IF(AND($O49="",$K49>DayAbandon),"Gate: training not done by day "&DayAbandon,IF(AND($N49="",$K49>DayTools),"Behind: tools not set up (day "&DayTools&")",IF(AND($O49="",$K49>DayTraining),"Behind: training (day "&DayTraining&")",IF(AND($Q49="",$K49>DayShadowing),"Behind: shadowing (day "&DayShadowing&")",IF(AND($R49="",$K49>DayLive),"Behind: not live yet (day "&DayLive&")",IF(AND(LEFT($D49,1)="3",IF($W49="",TRUE(),AsOf-$W49>NewcomerGap)),"Newcomer: no 1:1 in "&NewcomerGap&"+ days",""))))))) | F49: Billing | G49: Agent | H49: Philippines | I49: Thandi C. | J49: 45600 | K49: =IF($J49="","",IF($V49<>"",MIN($V49,AsOf),AsOf)-$J49) -> 695 | L49: 20 | M49: Red | N49: 45604 | O49: 45624 | P49: 0.73 | Q49: 45644 | R49: 45646 | S49: 45705 | V49: =IF($A49="","",IFERROR(IF(INDEX(Leavers!$E$2:$E$301,MATCH($A49,Leavers!$A$2:$A$301,0))="","",INDEX(Leavers!$E$2:$E$301,MATCH($A49,Leavers!$A$2:$A$301,0))),"")) | W49: =IF($A49="","",IF(COUNTIF('Conversation log'!$B$2:$B$1001,$A49)=0,"",_xlfn.MAXIFS('Conversation log'!$A$2:$A$1001,'Conversation log'!$B$2:$B$1001,$A49))) -> 46291
A50: P049 | B50: Lucia Z. | C50: =IF($J50="","",IF(AND($V50<>"",$V50<AsOf),"Left",IF($V50<>"","Leaving",IF(AND($U50<>"",$U50>=AsOf),"Unavailable",IF($T50<>"",$T50,IF(VALUE(LEFT($D50,1))>=3,"Live","Onboarding")))))) -> Live | D50: =IF($J50="","",IF($S50<>"","5. Veteran",IF($R50<>"",IF($K50>=DayVetReview,"4. Veteran review due","3. Newcomer"),IF($O50<>"","2. Shadowing","1. Training")))) -> 5. Veteran | E50: =IF(OR($J50="",$C50="Left",$C50="Leaving"),"",IF(AND($O50="",$K50>DayAbandon),"Gate: training not done by day "&DayAbandon,IF(AND($N50="",$K50>DayTools),"Behind: tools not set up (day "&DayTools&")",IF(AND($O50="",$K50>DayTraining),"Behind: training (day "&DayTraining&")",IF(AND($Q50="",$K50>DayShadowing),"Behind: shadowing (day "&DayShadowing&")",IF(AND($R50="",$K50>DayLive),"Behind: not live yet (day "&DayLive&")",IF(AND(LEFT($D50,1)="3",IF($W50="",TRUE(),AsOf-$W50>NewcomerGap)),"Newcomer: no 1:1 in "&NewcomerGap&"+ days",""))))))) | F50: Phone | G50: Agent | H50: Philippines | I50: Zeynep W. | J50: 45607 | K50: =IF($J50="","",IF($V50<>"",MIN($V50,AsOf),AsOf)-$J50) -> 688 | L50: 20 | M50: Amber | N50: 45609 | O50: 45621 | P50: 0.81 | Q50: 45639 | R50: 45641 | S50: 45695 | V50: =IF($A50="","",IFERROR(IF(INDEX(Leavers!$E$2:$E$301,MATCH($A50,Leavers!$A$2:$A$301,0))="","",INDEX(Leavers!$E$2:$E$301,MATCH($A50,Leavers!$A$2:$A$301,0))),"")) | W50: =IF($A50="","",IF(COUNTIF('Conversation log'!$B$2:$B$1001,$A50)=0,"",_xlfn.MAXIFS('Conversation log'!$A$2:$A$1001,'Conversation log'!$B$2:$B$1001,$A50))) -> 46295
A51: P050 | B51: Luis Z. | C51: =IF($J51="","",IF(AND($V51<>"",$V51<AsOf),"Left",IF($V51<>"","Leaving",IF(AND($U51<>"",$U51>=AsOf),"Unavailable",IF($T51<>"",$T51,IF(VALUE(LEFT($D51,1))>=3,"Live","Onboarding")))))) -> Left | D51: =IF($J51="","",IF($S51<>"","5. Veteran",IF($R51<>"",IF($K51>=DayVetReview,"4. Veteran review due","3. Newcomer"),IF($O51<>"","2. Shadowing","1. Training")))) -> 3. Newcomer | E51: =IF(OR($J51="",$C51="Left",$C51="Leaving"),"",IF(AND($O51="",$K51>DayAbandon),"Gate: training not done by day "&DayAbandon,IF(AND($N51="",$K51>DayTools),"Behind: tools not set up (day "&DayTools&")",IF(AND($O51="",$K51>DayTraining),"Behind: training (day "&DayTraining&")",IF(AND($Q51="",$K51>DayShadowing),"Behind: shadowing (day "&DayShadowing&")",IF(AND($R51="",$K51>DayLive),"Behind: not live yet (day "&DayLive&")",IF(AND(LEFT($D51,1)="3",IF($W51="",TRUE(),AsOf-$W51>NewcomerGap)),"Newcomer: no 1:1 in "&NewcomerGap&"+ days",""))))))) | F51: Phone | G51: Agent | H51: Brazil | I51: Zeynep W. | J51: 45614 | K51: =IF($J51="","",IF($V51<>"",MIN($V51,AsOf),AsOf)-$J51) -> 43 | L51: 10 | M51: Red | N51: 45630 | O51: 45633 | P51: 0.82 | Q51: 45650 | R51: 45654 | V51: =IF($A51="","",IFERROR(IF(INDEX(Leavers!$E$2:$E$301,MATCH($A51,Leavers!$A$2:$A$301,0))="","",INDEX(Leavers!$E$2:$E$301,MATCH($A51,Leavers!$A$2:$A$301,0))),"")) -> 45657 | W51: =IF($A51="","",IF(COUNTIF('Conversation log'!$B$2:$B$1001,$A51)=0,"",_xlfn.MAXIFS('Conversation log'!$A$2:$A$1001,'Conversation log'!$B$2:$B$1001,$A51)))
A52: P051 | B52: Teo C. | C52: =IF($J52="","",IF(AND($V52<>"",$V52<AsOf),"Left",IF($V52<>"","Leaving",IF(AND($U52<>"",$U52>=AsOf),"Unavailable",IF($T52<>"",$T52,IF(VALUE(LEFT($D52,1))>=3,"Live","Onboarding")))))) -> Left | D52: =IF($J52="","",IF($S52<>"","5. Veteran",IF($R52<>"",IF($K52>=DayVetReview,"4. Veteran review due","3. Newcomer"),IF($O52<>"","2. Shadowing","1. Training")))) -> 1. Training | E52: =IF(OR($J52="",$C52="Left",$C52="Leaving"),"",IF(AND($O52="",$K52>DayAbandon),"Gate: training not done by day "&DayAbandon,IF(AND($N52="",$K52>DayTools),"Behind: tools not set up (day "&DayTools&")",IF(AND($O52="",$K52>DayTraining),"Behind: training (day "&DayTraining&")",IF(AND($Q52="",$K52>DayShadowing),"Behind: shadowing (day "&DayShadowing&")",IF(AND($R52="",$K52>DayLive),"Behind: not live yet (day "&DayLive&")",IF(AND(LEFT($D52,1)="3",IF($W52="",TRUE(),AsOf-$W52>NewcomerGap)),"Newcomer: no 1:1 in "&NewcomerGap&"+ days",""))))))) | F52: Chat | G52: Agent | H52: Portugal | I52: Elif K. | J52: 45614 | K52: =IF($J52="","",IF($V52<>"",MIN($V52,AsOf),AsOf)-$J52) -> 25 | L52: 15 | M52: Red | N52: 45630 | V52: =IF($A52="","",IFERROR(IF(INDEX(Leavers!$E$2:$E$301,MATCH($A52,Leavers!$A$2:$A$301,0))="","",INDEX(Leavers!$E$2:$E$301,MATCH($A52,Leavers!$A$2:$A$301,0))),"")) -> 45639 | W52: =IF($A52="","",IF(COUNTIF('Conversation log'!$B$2:$B$1001,$A52)=0,"",_xlfn.MAXIFS('Conversation log'!$A$2:$A$1001,'Conversation log'!$B$2:$B$1001,$A52)))
A53: P052 | B53: Oscar V. | C53: =IF($J53="","",IF(AND($V53<>"",$V53<AsOf),"Left",IF($V53<>"","Leaving",IF(AND($U53<>"",$U53>=AsOf),"Unavailable",IF($T53<>"",$T53,IF(VALUE(LEFT($D53,1))>=3,"Live","Onboarding")))))) -> Left | D53: =IF($J53="","",IF($S53<>"","5. Veteran",IF($R53<>"",IF($K53>=DayVetReview,"4. Veteran review due","3. Newcomer"),IF($O53<>"","2. Shadowing","1. Training")))) -> 1. Training | E53: =IF(OR($J53="",$C53="Left",$C53="Leaving"),"",IF(AND($O53="",$K53>DayAbandon),"Gate: training not done by day "&DayAbandon,IF(AND($N53="",$K53>DayTools),"Behind: tools not set up (day "&DayTools&")",IF(AND($O53="",$K53>DayTraining),"Behind: training (day "&DayTraining&")",IF(AND($Q53="",$K53>DayShadowing),"Behind: shadowing (day "&DayShadowing&")",IF(AND($R53="",$K53>DayLive),"Behind: not live yet (day "&DayLive&")",IF(AND(LEFT($D53,1)="3",IF($W53="",TRUE(),AsOf-$W53>NewcomerGap)),"Newcomer: no 1:1 in "&NewcomerGap&"+ days",""))))))) | F53: Chat | G53: Agent | H53: South Africa | I53: Elif K. | J53: 45622 | K53: =IF($J53="","",IF($V53<>"",MIN($V53,AsOf),AsOf)-$J53) -> 27 | L53: 20 | M53: Red | N53: 45634 | V53: =IF($A53="","",IFERROR(IF(INDEX(Leavers!$E$2:$E$301,MATCH($A53,Leavers!$A$2:$A$301,0))="","",INDEX(Leavers!$E$2:$E$301,MATCH($A53,Leavers!$A$2:$A$301,0))),"")) -> 45649 | W53: =IF($A53="","",IF(COUNTIF('Conversation log'!$B$2:$B$1001,$A53)=0,"",_xlfn.MAXIFS('Conversation log'!$A$2:$A$1001,'Conversation log'!$B$2:$B$1001,$A53)))
A54: P053 | B54: Vera V. | C54: =IF($J54="","",IF(AND($V54<>"",$V54<AsOf),"Left",IF($V54<>"","Leaving",IF(AND($U54<>"",$U54>=AsOf),"Unavailable",IF($T54<>"",$T54,IF(VALUE(LEFT($D54,1))>=3,"Live","Onboarding")))))) -> Live | D54: =IF($J54="","",IF($S54<>"","5. Veteran",IF($R54<>"",IF($K54>=DayVetReview,"4. Veteran review due","3. Newcomer"),IF($O54<>"","2. Shadowing","1. Training")))) -> 5. Veteran | E54: =IF(OR($J54="",$C54="Left",$C54="Leaving"),"",IF(AND($O54="",$K54>DayAbandon),"Gate: training not done by day "&DayAbandon,IF(AND($N54="",$K54>DayTools),"Behind: tools not set up (day "&DayTools&")",IF(AND($O54="",$K54>DayTraining),"Behind: training (day "&DayTraining&")",IF(AND($Q54="",$K54>DayShadowing),"Behind: shadowing (day "&DayShadowing&")",IF(AND($R54="",$K54>DayLive),"Behind: not live yet (day "&DayLive&")",IF(AND(LEFT($D54,1)="3",IF($W54="",TRUE(),AsOf-$W54>NewcomerGap)),"Newcomer: no 1:1 in "&NewcomerGap&"+ days",""))))))) | F54: Chat | G54: Agent | H54: Malaysia | I54: Elif K. | J54: 45623 | K54: =IF($J54="","",IF($V54<>"",MIN($V54,AsOf),AsOf)-$J54) -> 672 | L54: 15 | M54: Green | N54: 45629 | O54: 45638 | P54: 0.91 | Q54: 45664 | R54: 45668 | S54: 45708 | V54: =IF($A54="","",IFERROR(IF(INDEX(Leavers!$E$2:$E$301,MATCH($A54,Leavers!$A$2:$A$301,0))="","",INDEX(Leavers!$E$2:$E$301,MATCH($A54,Leavers!$A$2:$A$301,0))),"")) | W54: =IF($A54="","",IF(COUNTIF('Conversation log'!$B$2:$B$1001,$A54)=0,"",_xlfn.MAXIFS('Conversation log'!$A$2:$A$1001,'Conversation log'!$B$2:$B$1001,$A54))) -> 46293
A55: P054 | B55: Zanele Z. | C55: =IF($J55="","",IF(AND($V55<>"",$V55<AsOf),"Left",IF($V55<>"","Leaving",IF(AND($U55<>"",$U55>=AsOf),"Unavailable",IF($T55<>"",$T55,IF(VALUE(LEFT($D55,1))>=3,"Live","Onboarding")))))) -> Left | D55: =IF($J55="","",IF($S55<>"","5. Veteran",IF($R55<>"",IF($K55>=DayVetReview,"4. Veteran review due","3. Newcomer"),IF($O55<>"","2. Shadowing","1. Training")))) -> 2. Shadowing | E55: =IF(OR($J55="",$C55="Left",$C55="Leaving"),"",IF(AND($O55="",$K55>DayAbandon),"Gate: training not done by day "&DayAbandon,IF(AND($N55="",$K55>DayTools),"Behind: tools not set up (day "&DayTools&")",IF(AND($O55="",$K55>DayTraining),"Behind: training (day "&DayTraining&")",IF(AND($Q55="",$K55>DayShadowing),"Behind: shadowing (day "&DayShadowing&")",IF(AND($R55="",$K55>DayLive),"Behind: not live yet (day "&DayLive&")",IF(AND(LEFT($D55,1)="3",IF($W55="",TRUE(),AsOf-$W55>NewcomerGap)),"Newcomer: no 1:1 in "&NewcomerGap&"+ days",""))))))) | F55: Billing | G55: Agent | H55: India | I55: Thandi C. | J55: 45623 | K55: =IF($J55="","",IF($V55<>"",MIN($V55,AsOf),AsOf)-$J55) -> 42 | L55: 15 | M55: Red | N55: 45632 | O55: 45649 | P55: 0.73 | V55: =IF($A55="","",IFERROR(IF(INDEX(Leavers!$E$2:$E$301,MATCH($A55,Leavers!$A$2:$A$301,0))="","",INDEX(Leavers!$E$2:$E$301,MATCH($A55,Leavers!$A$2:$A$301,0))),"")) -> 45665 | W55: =IF($A55="","",IF(COUNTIF('Conversation log'!$B$2:$B$1001,$A55)=0,"",_xlfn.MAXIFS('Conversation log'!$A$2:$A$1001,'Conversation log'!$B$2:$B$1001,$A55)))
A56: P055 | B56: Beatriz S. | C56: =IF($J56="","",IF(AND($V56<>"",$V56<AsOf),"Left",IF($V56<>"","Leaving",IF(AND($U56<>"",$U56>=AsOf),"Unavailable",IF($T56<>"",$T56,IF(VALUE(LEFT($D56,1))>=3,"Live","Onboarding")))))) -> Live | D56: =IF($J56="","",IF($S56<>"","5. Veteran",IF($R56<>"",IF($K56>=DayVetReview,"4. Veteran review due","3. Newcomer"),IF($O56<>"","2. Shadowing","1. Training")))) -> 5. Veteran | E56: =IF(OR($J56="",$C56="Left",$C56="Leaving"),"",IF(AND($O56="",$K56>DayAbandon),"Gate: training not done by day "&DayAbandon,IF(AND($N56="",$K56>DayTools),"Behind: tools not set up (day "&DayTools&")",IF(AND($O56="",$K56>DayTraining),"Behind: training (day "&DayTraining&")",IF(AND($Q56="",$K56>DayShadowing),"Behind: shadowing (day "&DayShadowing&")",IF(AND($R56="",$K56>DayLive),"Behind: not live yet (day "&DayLive&")",IF(AND(LEFT($D56,1)="3",IF($W56="",TRUE(),AsOf-$W56>NewcomerGap)),"Newcomer: no 1:1 in "&NewcomerGap&"+ days",""))))))) | F56: Chat | G56: Agent | H56: United States | I56: Elif K. | J56: 45629 | K56: =IF($J56="","",IF($V56<>"",MIN($V56,AsOf),AsOf)-$J56) -> 666 | L56: 20 | M56: Amber | N56: 45637 | O56: 45643 | P56: 0.85 | Q56: 45661 | R56: 45664 | S56: 45719 | V56: =IF($A56="","",IFERROR(IF(INDEX(Leavers!$E$2:$E$301,MATCH($A56,Leavers!$A$2:$A$301,0))="","",INDEX(Leavers!$E$2:$E$301,MATCH($A56,Leavers!$A$2:$A$301,0))),"")) | W56: =IF($A56="","",IF(COUNTIF('Conversation log'!$B$2:$B$1001,$A56)=0,"",_xlfn.MAXIFS('Conversation log'!$A$2:$A$1001,'Conversation log'!$B$2:$B$1001,$A56))) -> 46292
A57: P056 | B57: Ophelia L. | C57: =IF($J57="","",IF(AND($V57<>"",$V57<AsOf),"Left",IF($V57<>"","Leaving",IF(AND($U57<>"",$U57>=AsOf),"Unavailable",IF($T57<>"",$T57,IF(VALUE(LEFT($D57,1))>=3,"Live","Onboarding")))))) -> Left | D57: =IF($J57="","",IF($S57<>"","5. Veteran",IF($R57<>"",IF($K57>=DayVetReview,"4. Veteran review due","3. Newcomer"),IF($O57<>"","2. Shadowing","1. Training")))) -> 1. Training | E57: =IF(OR($J57="",$C57="Left",$C57="Leaving"),"",IF(AND($O57="",$K57>DayAbandon),"Gate: training not done by day "&DayAbandon,IF(AND($N57="",$K57>DayTools),"Behind: tools not set up (day "&DayTools&")",IF(AND($O57="",$K57>DayTraining),"Behind: training (day "&DayTraining&")",IF(AND($Q57="",$K57>DayShadowing),"Behind: shadowing (day "&DayShadowing&")",IF(AND($R57="",$K57>DayLive),"Behind: not live yet (day "&DayLive&")",IF(AND(LEFT($D57,1)="3",IF($W57="",TRUE(),AsOf-$W57>NewcomerGap)),"Newcomer: no 1:1 in "&NewcomerGap&"+ days",""))))))) | F57: Chat | G57: Agent | H57: Brazil | I57: Elif K. | J57: 45631 | K57: =IF($J57="","",IF($V57<>"",MIN($V57,AsOf),AsOf)-$J57) -> 8 | L57: 20 | M57: Green | N57: 45637 | V57: =IF($A57="","",IFERROR(IF(INDEX(Leavers!$E$2:$E$301,MATCH($A57,Leavers!$A$2:$A$301,0))="","",INDEX(Leavers!$E$2:$E$301,MATCH($A57,Leavers!$A$2:$A$301,0))),"")) -> 45639 | W57: =IF($A57="","",IF(COUNTIF('Conversation log'!$B$2:$B$1001,$A57)=0,"",_xlfn.MAXIFS('Conversation log'!$A$2:$A$1001,'Conversation log'!$B$2:$B$1001,$A57)))
A58: P057 | B58: Jomo G. | C58: =IF($J58="","",IF(AND($V58<>"",$V58<AsOf),"Left",IF($V58<>"","Leaving",IF(AND($U58<>"",$U58>=AsOf),"Unavailable",IF($T58<>"",$T58,IF(VALUE(LEFT($D58,1))>=3,"Live","Onboarding")))))) -> Left | D58: =IF($J58="","",IF($S58<>"","5. Veteran",IF($R58<>"",IF($K58>=DayVetReview,"4. Veteran review due","3. Newcomer"),IF($O58<>"","2. Shadowing","1. Training")))) -> 1. Training | E58: =IF(OR($J58="",$C58="Left",$C58="Leaving"),"",IF(AND($O58="",$K58>DayAbandon),"Gate: training not done by day "&DayAbandon,IF(AND($N58="",$K58>DayTools),"Behind: tools not set up (day "&DayTools&")",IF(AND($O58="",$K58>DayTraining),"Behind: training (day "&DayTraining&")",IF(AND($Q58="",$K58>DayShadowing),"Behind: shadowing (day "&DayShadowing&")",IF(AND($R58="",$K58>DayLive),"Behind: not live yet (day "&DayLive&")",IF(AND(LEFT($D58,1)="3",IF($W58="",TRUE(),AsOf-$W58>NewcomerGap)),"Newcomer: no 1:1 in "&NewcomerGap&"+ days",""))))))) | F58: Chat | G58: Agent | H58: South Africa | I58: Elif K. | J58: 45635 | K58: =IF($J58="","",IF($V58<>"",MIN($V58,AsOf),AsOf)-$J58) -> 11 | L58: 15 | M58: Green | N58: 45640 | V58: =IF($A58="","",IFERROR(IF(INDEX(Leavers!$E$2:$E$301,MATCH($A58,Leavers!$A$2:$A$301,0))="","",INDEX(Leavers!$E$2:$E$301,MATCH($A58,Leavers!$A$2:$A$301,0))),"")) -> 45646 | W58: =IF($A58="","",IF(COUNTIF('Conversation log'!$B$2:$B$1001,$A58)=0,"",_xlfn.MAXIFS('Conversation log'!$A$2:$A$1001,'Conversation log'!$B$2:$B$1001,$A58)))
